BEGIN:VCALENDAR
VERSION:2.0
PRODID:-//StreamRadar//Match Calendar//EN
CALSCALE:GREGORIAN
METHOD:PUBLISH
X-WR-CALNAME:Calendar Stars vs Morupule
X-WR-TIMEZONE:America/New_York
BEGIN:VEVENT
UID:match-5610053@streamradar.soccer
SUMMARY:Calendar Stars vs Morupule
DTSTAMP:20260421T162721Z
DTSTART;TZID=America/New_York:20260411T093000
DTEND;TZID=America/New_York:20260411T113000
DESCRIPTION:Kde sledovat Calendar Stars vs Morupule v Botswana - Premier Le
 ague. Živý přenos a TV program.\nhttps://streamradar.soccer/cs/match/561
 0053/calendar-stars-vs-morupule/
URL;VALUE=URI:https://streamradar.soccer/cs/match/5610053/calendar-stars-vs
 -morupule/
STATUS:CONFIRMED
END:VEVENT
END:VCALENDAR
