BEGIN:VCALENDAR
VERSION:2.0
PRODID:-//StreamRadar//Match Calendar//EN
CALSCALE:GREGORIAN
METHOD:PUBLISH
X-WR-CALNAME:Shabab Al Ordon vs Sama Al Sarhan
X-WR-TIMEZONE:America/New_York
BEGIN:VEVENT
UID:match-5609440@streamradar.soccer
SUMMARY:Shabab Al Ordon vs Sama Al Sarhan
DTSTAMP:20260421T084233Z
DTSTART;TZID=America/New_York:20260507T120000
DTEND;TZID=America/New_York:20260507T140000
DESCRIPTION:Kde sledovat Shabab Al Ordon vs Sama Al Sarhan v Jordánská li
 ga. Živý přenos a TV program.\nhttps://streamradar.soccer/cs/match/56094
 40/shabab-al-ordon-vs-sama-al-sarhan/
URL;VALUE=URI:https://streamradar.soccer/cs/match/5609440/shabab-al-ordon-v
 s-sama-al-sarhan/
STATUS:CONFIRMED
END:VEVENT
END:VCALENDAR
