BEGIN:VCALENDAR
VERSION:2.0
PRODID:-//StreamRadar//Match Calendar//EN
CALSCALE:GREGORIAN
METHOD:PUBLISH
X-WR-CALNAME:Al Hussein vs Al Faisaly
X-WR-TIMEZONE:America/New_York
BEGIN:VEVENT
UID:match-5609436@streamradar.soccer
SUMMARY:Al Hussein vs Al Faisaly
DTSTAMP:20260421T084133Z
DTSTART;TZID=America/New_York:20260507T120000
DTEND;TZID=America/New_York:20260507T140000
DESCRIPTION:Kde sledovat Al Hussein vs Al Faisaly v JordÃ¡nskÃ¡ liga. Å½ivÃ
 ½ pÅ™enos a TV program.\nhttps://streamradar.soccer/cs/match/5609436/al-hus
 sein-vs-al-faisaly/
URL;VALUE=URI:https://streamradar.soccer/cs/match/5609436/al-hussein-vs-al-
 faisaly/
STATUS:CONFIRMED
END:VEVENT
END:VCALENDAR
