BEGIN:VCALENDAR
VERSION:2.0
PRODID:-//StreamRadar//Match Calendar//EN
CALSCALE:GREGORIAN
METHOD:PUBLISH
X-WR-CALNAME:Vestri vs Leiknir ReykjavÃ­k
X-WR-TIMEZONE:America/New_York
BEGIN:VEVENT
UID:match-5608949@streamradar.soccer
SUMMARY:Vestri vs Leiknir ReykjavÃ­k
DTSTAMP:20260421T162629Z
DTSTART;TZID=America/New_York:20260411T120000
DTEND;TZID=America/New_York:20260411T140000
LOCATION:Kerecis Stadium - artificial grass
DESCRIPTION:Kde sledovat Vestri vs Leiknir ReykjavÃ­k v MjÃ³lkurbikarinn. Å
 ½ivÃ½ pÅ™enos a TV program.\nhttps://streamradar.soccer/cs/match/5608949/ve
 stri-vs-leiknir-reykjavik/
URL;VALUE=URI:https://streamradar.soccer/cs/match/5608949/vestri-vs-leiknir
 -reykjavik/
STATUS:CONFIRMED
END:VEVENT
END:VCALENDAR
