BEGIN:VCALENDAR
VERSION:2.0
PRODID:-//StreamRadar//Match Calendar//EN
CALSCALE:GREGORIAN
METHOD:PUBLISH
X-WR-CALNAME:Al Mesaimeer vs Al Mu'aidar
X-WR-TIMEZONE:America/New_York
BEGIN:VEVENT
UID:match-5608489@streamradar.soccer
SUMMARY:Al Mesaimeer vs Al Mu'aidar
DTSTAMP:20260421T092213Z
DTSTART;TZID=America/New_York:20260430T120000
DTEND;TZID=America/New_York:20260430T140000
DESCRIPTION:Kde sledovat Al Mesaimeer vs Al Mu'aidar v Qatari Second Divisi
 on. Živý přenos a TV program.\nhttps://streamradar.soccer/cs/match/56084
 89/al-mesaimeer-vs-al-muaidar/
URL;VALUE=URI:https://streamradar.soccer/cs/match/5608489/al-mesaimeer-vs-a
 l-muaidar/
STATUS:CONFIRMED
END:VEVENT
END:VCALENDAR
