BEGIN:VCALENDAR
VERSION:2.0
PRODID:-//StreamRadar//Match Calendar//EN
CALSCALE:GREGORIAN
METHOD:PUBLISH
X-WR-CALNAME:Plopeni vs PÄƒuleÅŸti
X-WR-TIMEZONE:America/New_York
BEGIN:VEVENT
UID:match-5608424@streamradar.soccer
SUMMARY:Plopeni vs PÄƒuleÅŸti
DTSTAMP:20260421T062026Z
DTSTART;TZID=America/New_York:20260502T110000
DTEND;TZID=America/New_York:20260502T130000
DESCRIPTION:Kde sledovat Plopeni vs PÄƒuleÅŸti v Rumunsko - Liga III. Å½ivÃ
 ½ pÅ™enos a TV program.\nhttps://streamradar.soccer/cs/match/5608424/plopen
 i-vs-p-ule-ti/
URL;VALUE=URI:https://streamradar.soccer/cs/match/5608424/plopeni-vs-p-ule-
 ti/
STATUS:CONFIRMED
END:VEVENT
END:VCALENDAR
