BEGIN:VCALENDAR
VERSION:2.0
PRODID:-//StreamRadar//Match Calendar//EN
CALSCALE:GREGORIAN
METHOD:PUBLISH
X-WR-CALNAME:NÃ¶rdlingen vs Pipinsried
X-WR-TIMEZONE:America/New_York
BEGIN:VEVENT
UID:match-5607493@streamradar.soccer
SUMMARY:NÃ¶rdlingen vs Pipinsried
DTSTAMP:20260421T092246Z
DTSTART;TZID=America/New_York:20260428T123000
DTEND;TZID=America/New_York:20260428T143000
DESCRIPTION:Kde sledovat NÃ¶rdlingen vs Pipinsried v NÄ›mecko - Oberliga. Å
 ½ivÃ½ pÅ™enos a TV program.\nhttps://streamradar.soccer/cs/match/5607493/no
 rdlingen-vs-pipinsried/
URL;VALUE=URI:https://streamradar.soccer/cs/match/5607493/nordlingen-vs-pip
 insried/
STATUS:CONFIRMED
END:VEVENT
END:VCALENDAR
