BEGIN:VCALENDAR
VERSION:2.0
PRODID:-//StreamRadar//Match Calendar//EN
CALSCALE:GREGORIAN
METHOD:PUBLISH
X-WR-CALNAME:RetrÃ´ vs Sergipe
X-WR-TIMEZONE:America/New_York
BEGIN:VEVENT
UID:match-5607452@streamradar.soccer
SUMMARY:RetrÃ´ vs Sergipe
DTSTAMP:20260421T091732Z
DTSTART;TZID=America/New_York:20260503T163000
DTEND;TZID=America/New_York:20260503T183000
LOCATION:Arena Pernambuco
DESCRIPTION:Kde sledovat RetrÃ´ vs Sergipe v BrazÃ­lie - Serie D. Å½ivÃ½ pÅ
 ™enos a TV program.\nhttps://streamradar.soccer/cs/match/5607452/retro-vs-s
 ergipe/
URL;VALUE=URI:https://streamradar.soccer/cs/match/5607452/retro-vs-sergipe/
STATUS:CONFIRMED
END:VEVENT
END:VCALENDAR
