BEGIN:VCALENDAR
VERSION:2.0
PRODID:-//StreamRadar//Match Calendar//EN
CALSCALE:GREGORIAN
METHOD:PUBLISH
X-WR-CALNAME:SÃ£o Luiz vs Cianorte
X-WR-TIMEZONE:America/New_York
BEGIN:VEVENT
UID:match-5607445@streamradar.soccer
SUMMARY:SÃ£o Luiz vs Cianorte
DTSTAMP:20260421T093000Z
DTSTART;TZID=America/New_York:20260503T150000
DTEND;TZID=America/New_York:20260503T170000
DESCRIPTION:Kde sledovat SÃ£o Luiz vs Cianorte v BrazÃ­lie - Serie D. Å½ivÃ
 ½ pÅ™enos a TV program.\nhttps://streamradar.soccer/cs/match/5607445/sao-lu
 iz-vs-cianorte/
URL;VALUE=URI:https://streamradar.soccer/cs/match/5607445/sao-luiz-vs-ciano
 rte/
STATUS:CONFIRMED
END:VEVENT
END:VCALENDAR
