BEGIN:VCALENDAR
VERSION:2.0
PRODID:-//StreamRadar//Match Calendar//EN
CALSCALE:GREGORIAN
METHOD:PUBLISH
X-WR-CALNAME:Oratório vs Águia de Marabá
X-WR-TIMEZONE:America/New_York
BEGIN:VEVENT
UID:match-5607436@streamradar.soccer
SUMMARY:Oratório vs Águia de Marabá
DTSTAMP:20260421T092020Z
DTSTART;TZID=America/New_York:20260503T143000
DTEND;TZID=America/New_York:20260503T163000
DESCRIPTION:Kde sledovat Oratório vs Águia De Marabá v Brazílie - Serie
  D. Živý přenos a TV program.\nhttps://streamradar.soccer/cs/match/56074
 36/oratorio-vs-aguia-de-maraba/
URL;VALUE=URI:https://streamradar.soccer/cs/match/5607436/oratorio-vs-aguia
 -de-maraba/
STATUS:CONFIRMED
END:VEVENT
END:VCALENDAR
