BEGIN:VCALENDAR
VERSION:2.0
PRODID:-//StreamRadar//Match Calendar//EN
CALSCALE:GREGORIAN
METHOD:PUBLISH
X-WR-CALNAME:Stade d'Abidjan vs SOA
X-WR-TIMEZONE:America/New_York
BEGIN:VEVENT
UID:match-5607386@streamradar.soccer
SUMMARY:Stade d'Abidjan vs SOA
DTSTAMP:20260421T221816Z
DTSTART;TZID=America/New_York:20260407T120000
DTEND;TZID=America/New_York:20260407T140000
LOCATION:Stade Robert Champroux
DESCRIPTION:Kde sledovat Stade D'Abidjan vs SOA v Côte d'Ivoire Premier Di
 vision. Živý přenos a TV program.\nhttps://streamradar.soccer/cs/match/5
 607386/stade-dabidjan-vs-soa/
URL;VALUE=URI:https://streamradar.soccer/cs/match/5607386/stade-dabidjan-vs
 -soa/
STATUS:CONFIRMED
END:VEVENT
END:VCALENDAR
