BEGIN:VCALENDAR
VERSION:2.0
PRODID:-//StreamRadar//Match Calendar//EN
CALSCALE:GREGORIAN
METHOD:PUBLISH
X-WR-CALNAME:Orenburg II vs Dinamo Barnaul
X-WR-TIMEZONE:America/New_York
BEGIN:VEVENT
UID:match-5603464@streamradar.soccer
SUMMARY:Orenburg II vs Dinamo Barnaul
DTSTAMP:20260421T063128Z
DTSTART;TZID=America/New_York:20260429T090000
DTEND;TZID=America/New_York:20260429T110000
DESCRIPTION:Kde sledovat Orenburg II vs Dinamo Barnaul v Rusko - FNL 2. Ži
 vý přenos a TV program.\nhttps://streamradar.soccer/cs/match/5603464/oren
 burg-ii-vs-dinamo-barnaul/
URL;VALUE=URI:https://streamradar.soccer/cs/match/5603464/orenburg-ii-vs-di
 namo-barnaul/
STATUS:CONFIRMED
END:VEVENT
END:VCALENDAR
