BEGIN:VCALENDAR
VERSION:2.0
PRODID:-//StreamRadar//Match Calendar//EN
CALSCALE:GREGORIAN
METHOD:PUBLISH
X-WR-CALNAME:Newell's Old Boys Res. vs Independiente Riva. Res.
X-WR-TIMEZONE:America/New_York
BEGIN:VEVENT
UID:match-5567688@streamradar.soccer
SUMMARY:Newell's Old Boys Res. vs Independiente Riva. Res.
DTSTAMP:20260421T194930Z
DTSTART;TZID=America/New_York:20260408T140000
DTEND;TZID=America/New_York:20260408T160000
DESCRIPTION:Kde sledovat Newell's Old Boys Res. vs Independiente Riva. Res.
  v Argentina - Reserve League. Živý přenos a TV program.\nhttps://stream
 radar.soccer/cs/match/5567688/newells-old-boys-res-vs-independiente-riva-re
 s/
URL;VALUE=URI:https://streamradar.soccer/cs/match/5567688/newells-old-boys-
 res-vs-independiente-riva-res/
STATUS:CONFIRMED
END:VEVENT
END:VCALENDAR
