BEGIN:VCALENDAR
VERSION:2.0
PRODID:-//StreamRadar//Match Calendar//EN
CALSCALE:GREGORIAN
METHOD:PUBLISH
X-WR-CALNAME:FCI Levadia II vs Tartu Welco
X-WR-TIMEZONE:America/New_York
BEGIN:VEVENT
UID:match-5567420@streamradar.soccer
SUMMARY:FCI Levadia II vs Tartu Welco
DTSTAMP:20260422T184721Z
DTSTART;TZID=America/New_York:20260910T120000
DTEND;TZID=America/New_York:20260910T140000
DESCRIPTION:Kde sledovat FCI Levadia II vs Tartu Welco v Estonsko - Esiliig
 a A. Živý přenos a TV program.\nhttps://streamradar.soccer/cs/match/5567
 420/fci-levadia-ii-vs-tartu-welco/
URL;VALUE=URI:https://streamradar.soccer/cs/match/5567420/fci-levadia-ii-vs
 -tartu-welco/
STATUS:CONFIRMED
END:VEVENT
END:VCALENDAR
