BEGIN:VCALENDAR
VERSION:2.0
PRODID:-//StreamRadar//Match Calendar//EN
CALSCALE:GREGORIAN
METHOD:PUBLISH
X-WR-CALNAME:Skala 1911 vs Bukovyna 2
X-WR-TIMEZONE:America/New_York
BEGIN:VEVENT
UID:match-5567208@streamradar.soccer
SUMMARY:Skala 1911 vs Bukovyna 2
DTSTAMP:20260421T220305Z
DTSTART;TZID=America/New_York:20260409T071500
DTEND;TZID=America/New_York:20260409T091500
LOCATION:Stadion Sokil (Stryi)
DESCRIPTION:Kde sledovat Skala 1911 vs Bukovyna 2 v Ukrajina - Druhá liga 
 Ukrajiny. Živý přenos a TV program.\nhttps://streamradar.soccer/cs/match
 /5567208/skala-1911-vs-bukovyna-2/
URL;VALUE=URI:https://streamradar.soccer/cs/match/5567208/skala-1911-vs-buk
 ovyna-2/
STATUS:CONFIRMED
END:VEVENT
END:VCALENDAR
