BEGIN:VCALENDAR
VERSION:2.0
PRODID:-//StreamRadar//Match Calendar//EN
CALSCALE:GREGORIAN
METHOD:PUBLISH
X-WR-CALNAME:Jeonbuk Motors II vs Mokpo City
X-WR-TIMEZONE:America/New_York
BEGIN:VEVENT
UID:match-5565500@streamradar.soccer
SUMMARY:Jeonbuk Motors II vs Mokpo City
DTSTAMP:20260422T024623Z
DTSTART;TZID=America/New_York:20260913T040000
DTEND;TZID=America/New_York:20260913T060000
DESCRIPTION:Kde sledovat Jeonbuk Motors II vs Mokpo City v Korejská republ
 ika - K3 League. Živý přenos a TV program.\nhttps://streamradar.soccer/c
 s/match/5565500/jeonbuk-motors-ii-vs-mokpo-city/
URL;VALUE=URI:https://streamradar.soccer/cs/match/5565500/jeonbuk-motors-ii
 -vs-mokpo-city/
STATUS:CONFIRMED
END:VEVENT
END:VCALENDAR
