BEGIN:VCALENDAR
VERSION:2.0
PRODID:-//StreamRadar//Match Calendar//EN
CALSCALE:GREGORIAN
METHOD:PUBLISH
X-WR-CALNAME:Egaleo vs Kissamikos
X-WR-TIMEZONE:America/New_York
BEGIN:VEVENT
UID:match-5565352@streamradar.soccer
SUMMARY:Egaleo vs Kissamikos
DTSTAMP:20260422T000446Z
DTSTART;TZID=America/New_York:20260404T080000
DTEND;TZID=America/New_York:20260404T100000
LOCATION:Stadio Stavros Mavrothalassitis (Athína (Athens))
DESCRIPTION:Kde sledovat Egaleo vs Kissamikos v Řecko - Super League 2. Ž
 ivý přenos a TV program.\nhttps://streamradar.soccer/cs/match/5565352/ega
 leo-vs-kissamikos/
URL;VALUE=URI:https://streamradar.soccer/cs/match/5565352/egaleo-vs-kissami
 kos/
STATUS:CONFIRMED
END:VEVENT
END:VCALENDAR
