BEGIN:VCALENDAR
VERSION:2.0
PRODID:-//StreamRadar//Match Calendar//EN
CALSCALE:GREGORIAN
METHOD:PUBLISH
X-WR-CALNAME:Ho Chi Minh 2 vs Xuan Thien Phu Tho
X-WR-TIMEZONE:America/New_York
BEGIN:VEVENT
UID:match-5563351@streamradar.soccer
SUMMARY:Ho Chi Minh 2 vs Xuan Thien Phu Tho
DTSTAMP:20260421T185329Z
DTSTART;TZID=America/New_York:20260515T060000
DTEND;TZID=America/New_York:20260515T080000
DESCRIPTION:Kde sledovat Ho Chi Minh 2 vs Xuan Thien Phu Tho v Vietnam - V.
 League 2. Živý přenos a TV program.\nhttps://streamradar.soccer/cs/match
 /5563351/ho-chi-minh-2-vs-xuan-thien-phu-tho/
URL;VALUE=URI:https://streamradar.soccer/cs/match/5563351/ho-chi-minh-2-vs-
 xuan-thien-phu-tho/
STATUS:CONFIRMED
END:VEVENT
END:VCALENDAR
