BEGIN:VCALENDAR
VERSION:2.0
PRODID:-//StreamRadar//Match Calendar//EN
CALSCALE:GREGORIAN
METHOD:PUBLISH
X-WR-CALNAME:Real Cundinamarca vs Atlético Cali
X-WR-TIMEZONE:America/New_York
BEGIN:VEVENT
UID:match-5562545@streamradar.soccer
SUMMARY:Real Cundinamarca vs Atlético Cali
DTSTAMP:20260422T115013Z
DTSTART;TZID=America/New_York:20260325T190000
DTEND;TZID=America/New_York:20260325T210000
LOCATION:Estadio Municipal de Mosquera
DESCRIPTION:Kde sledovat Real Cundinamarca vs Atlético Cali v Kolumbie - P
 rimera B. Živý přenos a TV program.\nhttps://streamradar.soccer/cs/match
 /5562545/real-cundinamarca-vs-atletico-cali/
URL;VALUE=URI:https://streamradar.soccer/cs/match/5562545/real-cundinamarca
 -vs-atletico-cali/
STATUS:CONFIRMED
END:VEVENT
END:VCALENDAR
