BEGIN:VCALENDAR
VERSION:2.0
PRODID:-//StreamRadar//Match Calendar//EN
CALSCALE:GREGORIAN
METHOD:PUBLISH
X-WR-CALNAME:Binh Duong vs Hoang Anh Gia Lai
X-WR-TIMEZONE:America/New_York
BEGIN:VEVENT
UID:match-5562423@streamradar.soccer
SUMMARY:Binh Duong vs Hoang Anh Gia Lai
DTSTAMP:20260421T144454Z
DTSTART;TZID=America/New_York:20260607T070000
DTEND;TZID=America/New_York:20260607T090000
DESCRIPTION:Kde sledovat Binh Duong vs Hoang Anh Gia Lai v Vietnam - V.Leag
 ue 1. Živý přenos a TV program.\nhttps://streamradar.soccer/cs/match/556
 2423/binh-duong-vs-hoang-anh-gia-lai/
URL;VALUE=URI:https://streamradar.soccer/cs/match/5562423/binh-duong-vs-hoa
 ng-anh-gia-lai/
STATUS:CONFIRMED
END:VEVENT
END:VCALENDAR
