BEGIN:VCALENDAR
VERSION:2.0
PRODID:-//StreamRadar//Match Calendar//EN
CALSCALE:GREGORIAN
METHOD:PUBLISH
X-WR-CALNAME:Entebbe Uppc vs Kampala City
X-WR-TIMEZONE:America/New_York
BEGIN:VEVENT
UID:match-5562074@streamradar.soccer
SUMMARY:Entebbe Uppc vs Kampala City
DTSTAMP:20260420T144517Z
DTSTART;TZID=America/New_York:20260421T090000
DTEND;TZID=America/New_York:20260421T110000
LOCATION:Gaddafi Arena
DESCRIPTION:Kde sledovat Entebbe Uppc vs Kampala City v Uganda - Premier Le
 ague. Živý přenos a TV program.\nhttps://streamradar.soccer/cs/match/556
 2074/entebbe-uppc-vs-kampala-city/
URL;VALUE=URI:https://streamradar.soccer/cs/match/5562074/entebbe-uppc-vs-k
 ampala-city/
STATUS:CONFIRMED
END:VEVENT
END:VCALENDAR
