BEGIN:VCALENDAR
VERSION:2.0
PRODID:-//StreamRadar//Match Calendar//EN
CALSCALE:GREGORIAN
METHOD:PUBLISH
X-WR-CALNAME:Tammeka vs Nõmme Kalju
X-WR-TIMEZONE:America/New_York
BEGIN:VEVENT
UID:match-5561678@streamradar.soccer
SUMMARY:Tammeka vs Nõmme Kalju
DTSTAMP:20260423T130505Z
DTSTART;TZID=America/New_York:20260920T073000
DTEND;TZID=America/New_York:20260920T093000
LOCATION:Tamme Stadium
DESCRIPTION:Kde sledovat Tammeka vs Nõmme Kalju v Estonsko - Meistriliiga.
  Živý přenos a TV program.\nhttps://streamradar.soccer/cs/match/5561678/
 tammeka-vs-nomme-kalju/
URL;VALUE=URI:https://streamradar.soccer/cs/match/5561678/tammeka-vs-nomme-
 kalju/
STATUS:CONFIRMED
END:VEVENT
END:VCALENDAR
