BEGIN:VCALENDAR
VERSION:2.0
PRODID:-//StreamRadar//Match Calendar//EN
CALSCALE:GREGORIAN
METHOD:PUBLISH
X-WR-CALNAME:Nõmme United vs Paide
X-WR-TIMEZONE:America/New_York
BEGIN:VEVENT
UID:match-5561677@streamradar.soccer
SUMMARY:Nõmme United vs Paide
DTSTAMP:20260422T082314Z
DTSTART;TZID=America/New_York:20260919T100000
DTEND;TZID=America/New_York:20260919T120000
DESCRIPTION:Kde sledovat Nõmme United vs Paide v Estonsko - Meistriliiga. 
 Živý přenos a TV program.\nhttps://streamradar.soccer/cs/match/5561677/n
 omme-united-vs-paide/
URL;VALUE=URI:https://streamradar.soccer/cs/match/5561677/nomme-united-vs-p
 aide/
STATUS:CONFIRMED
END:VEVENT
END:VCALENDAR
