BEGIN:VCALENDAR
VERSION:2.0
PRODID:-//StreamRadar//Match Calendar//EN
CALSCALE:GREGORIAN
METHOD:PUBLISH
X-WR-CALNAME:Universitario vs Herrera
X-WR-TIMEZONE:America/New_York
BEGIN:VEVENT
UID:match-5561299@streamradar.soccer
SUMMARY:Universitario vs Herrera
DTSTAMP:20260422T000454Z
DTSTART;TZID=America/New_York:20260406T213000
DTEND;TZID=America/New_York:20260406T233000
LOCATION:Estadio Universidad Latina
DESCRIPTION:Kde sledovat Universitario vs Herrera v Liga Panameña de Fútb
 ol. Živý přenos a TV program.\nhttps://streamradar.soccer/cs/match/55612
 99/universitario-vs-herrera/
URL;VALUE=URI:https://streamradar.soccer/cs/match/5561299/universitario-vs-
 herrera/
STATUS:CONFIRMED
END:VEVENT
END:VCALENDAR
