BEGIN:VCALENDAR
VERSION:2.0
PRODID:-//StreamRadar//Match Calendar//EN
CALSCALE:GREGORIAN
METHOD:PUBLISH
X-WR-CALNAME:Panevėžys vs Džiugas Telšiai
X-WR-TIMEZONE:America/New_York
BEGIN:VEVENT
UID:match-5561207@streamradar.soccer
SUMMARY:Panevėžys vs Džiugas Telšiai
DTSTAMP:20260422T044025Z
DTSTART;TZID=America/New_York:20260405T093000
DTEND;TZID=America/New_York:20260405T113000
LOCATION:Aukstaitijos Stadium
DESCRIPTION:Kde sledovat Panevėžys vs Džiugas Telšiai v Litva - A lyga.
  Živý přenos a TV program.\nhttps://streamradar.soccer/cs/match/5561207/
 panev-zys-vs-dziugas-telsiai/
URL;VALUE=URI:https://streamradar.soccer/cs/match/5561207/panev-zys-vs-dziu
 gas-telsiai/
STATUS:CONFIRMED
END:VEVENT
END:VCALENDAR
