BEGIN:VCALENDAR
VERSION:2.0
PRODID:-//StreamRadar//Match Calendar//EN
CALSCALE:GREGORIAN
METHOD:PUBLISH
X-WR-CALNAME:Deportivo Morón vs Godoy Cruz
X-WR-TIMEZONE:America/New_York
BEGIN:VEVENT
UID:match-5560100@streamradar.soccer
SUMMARY:Deportivo Morón vs Godoy Cruz
DTSTAMP:20260421T120525Z
DTSTART;TZID=America/New_York:20260912T160000
DTEND;TZID=America/New_York:20260912T180000
LOCATION:Estadio Nuevo Francisco Urbano
DESCRIPTION:Kde sledovat Deportivo Morón vs Godoy Cruz v Argentina - Prime
 ra Nacional. Živý přenos a TV program.\nhttps://streamradar.soccer/cs/ma
 tch/5560100/deportivo-moron-vs-godoy-cruz/
URL;VALUE=URI:https://streamradar.soccer/cs/match/5560100/deportivo-moron-v
 s-godoy-cruz/
STATUS:CONFIRMED
END:VEVENT
END:VCALENDAR
