BEGIN:VCALENDAR
VERSION:2.0
PRODID:-//StreamRadar//Match Calendar//EN
CALSCALE:GREGORIAN
METHOD:PUBLISH
X-WR-CALNAME:Cuiabá vs Náutico
X-WR-TIMEZONE:America/New_York
BEGIN:VEVENT
UID:match-5559565@streamradar.soccer
SUMMARY:Cuiabá vs Náutico
DTSTAMP:20260422T053153Z
DTSTART;TZID=America/New_York:20260919T150000
DTEND;TZID=America/New_York:20260919T170000
LOCATION:Arena Pantanal
DESCRIPTION:Kde sledovat Cuiabá vs Náutico v Brazílie - Serie B. Živý 
 přenos a TV program.\nhttps://streamradar.soccer/cs/match/5559565/cuiaba-v
 s-nautico/
URL;VALUE=URI:https://streamradar.soccer/cs/match/5559565/cuiaba-vs-nautico
 /
STATUS:CONFIRMED
END:VEVENT
END:VCALENDAR
