BEGIN:VCALENDAR
VERSION:2.0
PRODID:-//StreamRadar//Match Calendar//EN
CALSCALE:GREGORIAN
METHOD:PUBLISH
X-WR-CALNAME:Changwon City vs Yeoju Citizen
X-WR-TIMEZONE:America/New_York
BEGIN:VEVENT
UID:match-5558302@streamradar.soccer
SUMMARY:Changwon City vs Yeoju Citizen
DTSTAMP:20260422T172607Z
DTSTART;TZID=America/New_York:20260321T010000
DTEND;TZID=America/New_York:20260321T030000
LOCATION:Changwon Civil Stadium (Changwon)
DESCRIPTION:Kde sledovat Changwon City vs Yeoju Citizen v Korejská republi
 ka - K3 League. Živý přenos a TV program.\nhttps://streamradar.soccer/cs
 /match/5558302/changwon-city-vs-yeoju-citizen/
URL;VALUE=URI:https://streamradar.soccer/cs/match/5558302/changwon-city-vs-
 yeoju-citizen/
STATUS:CONFIRMED
END:VEVENT
END:VCALENDAR
