BEGIN:VCALENDAR
VERSION:2.0
PRODID:-//StreamRadar//Match Calendar//EN
CALSCALE:GREGORIAN
METHOD:PUBLISH
X-WR-CALNAME:San Francisco vs Tauro
X-WR-TIMEZONE:America/New_York
BEGIN:VEVENT
UID:match-5558111@streamradar.soccer
SUMMARY:San Francisco vs Tauro
DTSTAMP:20260422T193801Z
DTSTART;TZID=America/New_York:20260320T213000
DTEND;TZID=America/New_York:20260320T233000
LOCATION:Estadio Agustín Muquita Sánchez (La Chorrera)
DESCRIPTION:Kde sledovat San Francisco vs Tauro v Liga Panameña de Fútbol
 . Živý přenos a TV program.\nhttps://streamradar.soccer/cs/match/5558111
 /san-francisco-vs-tauro/
URL;VALUE=URI:https://streamradar.soccer/cs/match/5558111/san-francisco-vs-
 tauro/
STATUS:CONFIRMED
END:VEVENT
END:VCALENDAR
