BEGIN:VCALENDAR
VERSION:2.0
PRODID:-//StreamRadar//Match Calendar//EN
CALSCALE:GREGORIAN
METHOD:PUBLISH
X-WR-CALNAME:Junior W vs Llaneros W
X-WR-TIMEZONE:America/New_York
BEGIN:VEVENT
UID:match-5557473@streamradar.soccer
SUMMARY:Junior W vs Llaneros W
DTSTAMP:20260423T095618Z
DTSTART;TZID=America/New_York:20260301T170000
DTEND;TZID=America/New_York:20260301T190000
LOCATION:Estadio Romelio Martinez
DESCRIPTION:Kde sledovat Junior W vs Llaneros W v Kolumbie - Liga Femenina.
  Živý přenos a TV program.\nhttps://streamradar.soccer/cs/match/5557473/
 junior-w-vs-llaneros-w/
URL;VALUE=URI:https://streamradar.soccer/cs/match/5557473/junior-w-vs-llane
 ros-w/
STATUS:CONFIRMED
END:VEVENT
END:VCALENDAR
