BEGIN:VCALENDAR
VERSION:2.0
PRODID:-//StreamRadar//Match Calendar//EN
CALSCALE:GREGORIAN
METHOD:PUBLISH
X-WR-CALNAME:Maniema Union vs USM Alger
X-WR-TIMEZONE:America/New_York
BEGIN:VEVENT
UID:match-5557222@streamradar.soccer
SUMMARY:Maniema Union vs USM Alger
DTSTAMP:20260422T235005Z
DTSTART;TZID=America/New_York:20260315T090000
DTEND;TZID=America/New_York:20260315T110000
LOCATION:Stade TP Mazembe
DESCRIPTION:Kde sledovat Maniema Union vs USM Alger v Pohár konfederace CA
 F. Živý přenos a TV program.\nhttps://streamradar.soccer/cs/match/555722
 2/maniema-union-vs-usm-alger/
URL;VALUE=URI:https://streamradar.soccer/cs/match/5557222/maniema-union-vs-
 usm-alger/
STATUS:CONFIRMED
END:VEVENT
END:VCALENDAR
