BEGIN:VCALENDAR
VERSION:2.0
PRODID:-//StreamRadar//Match Calendar//EN
CALSCALE:GREGORIAN
METHOD:PUBLISH
X-WR-CALNAME:Lushnja vs Luftëtari Gjirokastër
X-WR-TIMEZONE:America/New_York
BEGIN:VEVENT
UID:match-5556797@streamradar.soccer
SUMMARY:Lushnja vs Luftëtari Gjirokastër
DTSTAMP:20260423T000016Z
DTSTART;TZID=America/New_York:20260314T100000
DTEND;TZID=America/New_York:20260314T120000
LOCATION:Stadiumi Roza Haxhiu (Lushnjë)
DESCRIPTION:Kde sledovat Lushnja vs Luftëtari Gjirokastër v Albánie - Fi
 rst Division (v Albánii). Živý přenos a TV program.\nhttps://streamrada
 r.soccer/cs/match/5556797/lushnja-vs-luftetari-gjirokaster/
URL;VALUE=URI:https://streamradar.soccer/cs/match/5556797/lushnja-vs-luftet
 ari-gjirokaster/
STATUS:CONFIRMED
END:VEVENT
END:VCALENDAR
