BEGIN:VCALENDAR
VERSION:2.0
PRODID:-//StreamRadar//Match Calendar//EN
CALSCALE:GREGORIAN
METHOD:PUBLISH
X-WR-CALNAME:Víkingur vs 07 Vestur
X-WR-TIMEZONE:America/New_York
BEGIN:VEVENT
UID:match-5535061@streamradar.soccer
SUMMARY:Víkingur vs 07 Vestur
DTSTAMP:20260425T162332Z
DTSTART;TZID=America/New_York:20260919T100000
DTEND;TZID=America/New_York:20260919T120000
DESCRIPTION:Kde sledovat Víkingur vs 07 Vestur v Faerské ostrovy - Premie
 r League v Faerských ostrovech. Živý přenos a TV program.\nhttps://stre
 amradar.soccer/cs/match/5535061/vikingur-vs-07-vestur/
URL;VALUE=URI:https://streamradar.soccer/cs/match/5535061/vikingur-vs-07-ve
 stur/
STATUS:CONFIRMED
END:VEVENT
END:VCALENDAR
