BEGIN:VCALENDAR
VERSION:2.0
PRODID:-//StreamRadar//Match Calendar//EN
CALSCALE:GREGORIAN
METHOD:PUBLISH
X-WR-CALNAME:TvÃ¥Ã¥ker vs Ariana
X-WR-TIMEZONE:America/New_York
BEGIN:VEVENT
UID:match-5534748@streamradar.soccer
SUMMARY:TvÃ¥Ã¥ker vs Ariana
DTSTAMP:20260421T124139Z
DTSTART;TZID=America/New_York:20260912T100000
DTEND;TZID=America/New_York:20260912T120000
DESCRIPTION:Kde sledovat TvÃ¥Ã¥ker vs Ariana v Å vÃ©dsko - Ettan. Å½ivÃ½ pÅ
 ™enos a TV program.\nhttps://streamradar.soccer/cs/match/5534748/tvaaker-vs
 -ariana/
URL;VALUE=URI:https://streamradar.soccer/cs/match/5534748/tvaaker-vs-ariana
 /
STATUS:CONFIRMED
END:VEVENT
END:VCALENDAR
