BEGIN:VCALENDAR
VERSION:2.0
PRODID:-//StreamRadar//Match Calendar//EN
CALSCALE:GREGORIAN
METHOD:PUBLISH
X-WR-CALNAME:Trollhättan vs Utsikten
X-WR-TIMEZONE:America/New_York
BEGIN:VEVENT
UID:match-5534747@streamradar.soccer
SUMMARY:Trollhättan vs Utsikten
DTSTAMP:20260421T124247Z
DTSTART;TZID=America/New_York:20260911T130000
DTEND;TZID=America/New_York:20260911T150000
LOCATION:Edsborgs IP
DESCRIPTION:Kde sledovat Trollhättan vs Utsikten v Švédsko - Ettan. Živ
 ý přenos a TV program.\nhttps://streamradar.soccer/cs/match/5534747/troll
 hattan-vs-utsikten/
URL;VALUE=URI:https://streamradar.soccer/cs/match/5534747/trollhattan-vs-ut
 sikten/
STATUS:CONFIRMED
END:VEVENT
END:VCALENDAR
