BEGIN:VCALENDAR
VERSION:2.0
PRODID:-//StreamRadar//Match Calendar//EN
CALSCALE:GREGORIAN
METHOD:PUBLISH
X-WR-CALNAME:Mercedes vs Defensores de Cambaceres
X-WR-TIMEZONE:America/New_York
BEGIN:VEVENT
UID:match-5534218@streamradar.soccer
SUMMARY:Mercedes vs Defensores de Cambaceres
DTSTAMP:20260422T045713Z
DTSTART;TZID=America/New_York:20260905T160000
DTEND;TZID=America/New_York:20260905T180000
DESCRIPTION:Kde sledovat Mercedes vs Defensores De Cambaceres v Argentina -
  Primera C Metropolitana. Živý přenos a TV program.\nhttps://streamradar
 .soccer/cs/match/5534218/mercedes-vs-defensores-de-cambaceres/
URL;VALUE=URI:https://streamradar.soccer/cs/match/5534218/mercedes-vs-defen
 sores-de-cambaceres/
STATUS:CONFIRMED
END:VEVENT
END:VCALENDAR
