BEGIN:VCALENDAR
VERSION:2.0
PRODID:-//StreamRadar//Match Calendar//EN
CALSCALE:GREGORIAN
METHOD:PUBLISH
X-WR-CALNAME:Deportivo Paraguayo vs Leandro Nicéforo Alem
X-WR-TIMEZONE:America/New_York
BEGIN:VEVENT
UID:match-5534216@streamradar.soccer
SUMMARY:Deportivo Paraguayo vs Leandro Nicéforo Alem
DTSTAMP:20260421T182705Z
DTSTART;TZID=America/New_York:20260905T160000
DTEND;TZID=America/New_York:20260905T180000
DESCRIPTION:Kde sledovat Deportivo Paraguayo vs Leandro Nicéforo Alem v Ar
 gentina - Primera C Metropolitana. Živý přenos a TV program.\nhttps://st
 reamradar.soccer/cs/match/5534216/deportivo-paraguayo-vs-leandro-niceforo-a
 lem/
URL;VALUE=URI:https://streamradar.soccer/cs/match/5534216/deportivo-paragua
 yo-vs-leandro-niceforo-alem/
STATUS:CONFIRMED
END:VEVENT
END:VCALENDAR
