BEGIN:VCALENDAR
VERSION:2.0
PRODID:-//StreamRadar//Match Calendar//EN
CALSCALE:GREGORIAN
METHOD:PUBLISH
X-WR-CALNAME:JJ Urquiza vs Deportivo Muñiz
X-WR-TIMEZONE:America/New_York
BEGIN:VEVENT
UID:match-5534119@streamradar.soccer
SUMMARY:JJ Urquiza vs Deportivo Muñiz
DTSTAMP:20260421T213611Z
DTSTART;TZID=America/New_York:20260718T160000
DTEND;TZID=America/New_York:20260718T180000
DESCRIPTION:Kde sledovat JJ Urquiza vs Deportivo Muñiz v Argentina - Prime
 ra C Metropolitana. Živý přenos a TV program.\nhttps://streamradar.socce
 r/cs/match/5534119/jj-urquiza-vs-deportivo-muniz/
URL;VALUE=URI:https://streamradar.soccer/cs/match/5534119/jj-urquiza-vs-dep
 ortivo-muniz/
STATUS:CONFIRMED
END:VEVENT
END:VCALENDAR
