BEGIN:VCALENDAR
VERSION:2.0
PRODID:-//StreamRadar//Match Calendar//EN
CALSCALE:GREGORIAN
METHOD:PUBLISH
X-WR-CALNAME:Stjarnan vs ÍBV
X-WR-TIMEZONE:America/New_York
BEGIN:VEVENT
UID:match-5533005@streamradar.soccer
SUMMARY:Stjarnan vs ÍBV
DTSTAMP:20260425T115708Z
DTSTART;TZID=America/New_York:20260906T100000
DTEND;TZID=America/New_York:20260906T120000
DESCRIPTION:Kde sledovat Stjarnan vs ÍBV v Island - Besta deild karla. Ži
 vý přenos a TV program.\nhttps://streamradar.soccer/cs/match/5533005/stja
 rnan-vs-ibv/
URL;VALUE=URI:https://streamradar.soccer/cs/match/5533005/stjarnan-vs-ibv/
STATUS:CONFIRMED
END:VEVENT
END:VCALENDAR
