BEGIN:VCALENDAR
VERSION:2.0
PRODID:-//StreamRadar//Match Calendar//EN
CALSCALE:GREGORIAN
METHOD:PUBLISH
X-WR-CALNAME:Saburtalo vs Spaeri
X-WR-TIMEZONE:America/New_York
BEGIN:VEVENT
UID:match-5532399@streamradar.soccer
SUMMARY:Saburtalo vs Spaeri
DTSTAMP:20260421T193424Z
DTSTART;TZID=America/New_York:20260913T090000
DTEND;TZID=America/New_York:20260913T110000
LOCATION:Mikheil Meskhi Stadium
DESCRIPTION:Kde sledovat Saburtalo vs Spaeri v Gruzie - Erovnuli Liga. Živ
 ý přenos a TV program.\nhttps://streamradar.soccer/cs/match/5532399/sabur
 talo-vs-spaeri/
URL;VALUE=URI:https://streamradar.soccer/cs/match/5532399/saburtalo-vs-spae
 ri/
STATUS:CONFIRMED
END:VEVENT
END:VCALENDAR
