BEGIN:VCALENDAR
VERSION:2.0
PRODID:-//StreamRadar//Match Calendar//EN
CALSCALE:GREGORIAN
METHOD:PUBLISH
X-WR-CALNAME:Brage vs GIF Sundsvall
X-WR-TIMEZONE:America/New_York
BEGIN:VEVENT
UID:match-5531883@streamradar.soccer
SUMMARY:Brage vs GIF Sundsvall
DTSTAMP:20260422T005932Z
DTSTART;TZID=America/New_York:20260906T090000
DTEND;TZID=America/New_York:20260906T110000
LOCATION:Domnarvsvallen
DESCRIPTION:Kde sledovat Brage vs GIF Sundsvall v Å vÃ©dsko - Superettan. Å
 ½ivÃ½ pÅ™enos a TV program.\nhttps://streamradar.soccer/cs/match/5531883/br
 age-vs-gif-sundsvall/
URL;VALUE=URI:https://streamradar.soccer/cs/match/5531883/brage-vs-gif-sund
 svall/
STATUS:CONFIRMED
END:VEVENT
END:VCALENDAR
