BEGIN:VCALENDAR
VERSION:2.0
PRODID:-//StreamRadar//Match Calendar//EN
CALSCALE:GREGORIAN
METHOD:PUBLISH
X-WR-CALNAME:Forward Madison vs Sarasota Paradise
X-WR-TIMEZONE:America/New_York
BEGIN:VEVENT
UID:match-5509592@streamradar.soccer
SUMMARY:Forward Madison vs Sarasota Paradise
DTSTAMP:20260421T092318Z
DTSTART;TZID=America/New_York:20260912T180000
DTEND;TZID=America/New_York:20260912T200000
LOCATION:Breese Stevens Field
DESCRIPTION:Kde sledovat Forward Madison vs Sarasota Paradise v Spojené st
 áty americké - USL League One. Živý přenos a TV program.\nhttps://stre
 amradar.soccer/cs/match/5509592/forward-madison-vs-sarasota-paradise/
URL;VALUE=URI:https://streamradar.soccer/cs/match/5509592/forward-madison-v
 s-sarasota-paradise/
STATUS:CONFIRMED
END:VEVENT
END:VCALENDAR
