BEGIN:VCALENDAR
VERSION:2.0
PRODID:-//StreamRadar//Match Calendar//EN
CALSCALE:GREGORIAN
METHOD:PUBLISH
X-WR-CALNAME:Stjørdals-Blink vs Lørenskog
X-WR-TIMEZONE:America/New_York
BEGIN:VEVENT
UID:match-5508974@streamradar.soccer
SUMMARY:Stjørdals-Blink vs Lørenskog
DTSTAMP:20260424T075221Z
DTSTART;TZID=America/New_York:20260920T090000
DTEND;TZID=America/New_York:20260920T110000
LOCATION:TMT Stadion Sandskogan
DESCRIPTION:Kde sledovat Stjørdals-Blink vs Lørenskog v Norsko - 2. divis
 jon. Živý přenos a TV program.\nhttps://streamradar.soccer/cs/match/5508
 974/stjordals-blink-vs-lorenskog/
URL;VALUE=URI:https://streamradar.soccer/cs/match/5508974/stjordals-blink-v
 s-lorenskog/
STATUS:CONFIRMED
END:VEVENT
END:VCALENDAR
