BEGIN:VCALENDAR
VERSION:2.0
PRODID:-//StreamRadar//Match Calendar//EN
CALSCALE:GREGORIAN
METHOD:PUBLISH
X-WR-CALNAME:Stabæk vs Sogndal
X-WR-TIMEZONE:America/New_York
BEGIN:VEVENT
UID:match-5507628@streamradar.soccer
SUMMARY:Stabæk vs Sogndal
DTSTAMP:20260425T192150Z
DTSTART;TZID=America/New_York:20260920T110000
DTEND;TZID=America/New_York:20260920T130000
LOCATION:Nadderud Stadion
DESCRIPTION:Kde sledovat Stabæk vs Sogndal v Norsko - OBOS-ligaen. Živý 
 přenos a TV program.\nhttps://streamradar.soccer/cs/match/5507628/stabak-v
 s-sogndal/
URL;VALUE=URI:https://streamradar.soccer/cs/match/5507628/stabak-vs-sogndal
 /
STATUS:CONFIRMED
END:VEVENT
END:VCALENDAR
