BEGIN:VCALENDAR
VERSION:2.0
PRODID:-//StreamRadar//Match Calendar//EN
CALSCALE:GREGORIAN
METHOD:PUBLISH
X-WR-CALNAME:Sogndal vs StrÃ¸mmen
X-WR-TIMEZONE:America/New_York
BEGIN:VEVENT
UID:match-5507619@streamradar.soccer
SUMMARY:Sogndal vs StrÃ¸mmen
DTSTAMP:20260421T133459Z
DTSTART;TZID=America/New_York:20260913T110000
DTEND;TZID=America/New_York:20260913T130000
LOCATION:Fosshaugane Campus
DESCRIPTION:Kde sledovat Sogndal vs StrÃ¸mmen v Norsko - OBOS-ligaen. Å½ivÃ
 ½ pÅ™enos a TV program.\nhttps://streamradar.soccer/cs/match/5507619/sognda
 l-vs-strommen/
URL;VALUE=URI:https://streamradar.soccer/cs/match/5507619/sogndal-vs-stromm
 en/
STATUS:CONFIRMED
END:VEVENT
END:VCALENDAR
