BEGIN:VCALENDAR
VERSION:2.0
PRODID:-//StreamRadar//Match Calendar//EN
CALSCALE:GREGORIAN
METHOD:PUBLISH
X-WR-CALNAME:Sligo Rovers vs Galway United
X-WR-TIMEZONE:America/New_York
BEGIN:VEVENT
UID:match-5506285@streamradar.soccer
SUMMARY:Sligo Rovers vs Galway United
DTSTAMP:20260425T115910Z
DTSTART;TZID=America/New_York:20260905T144500
DTEND;TZID=America/New_York:20260905T164500
LOCATION:Showgrounds
DESCRIPTION:Kde sledovat Sligo Rovers vs Galway United v Premier Division. 
 Živý přenos a TV program.\nhttps://streamradar.soccer/cs/match/5506285/s
 ligo-rovers-vs-galway-united/
URL;VALUE=URI:https://streamradar.soccer/cs/match/5506285/sligo-rovers-vs-g
 alway-united/
STATUS:CONFIRMED
END:VEVENT
END:VCALENDAR
