BEGIN:VCALENDAR
VERSION:2.0
PRODID:-//StreamRadar//Match Calendar//EN
CALSCALE:GREGORIAN
METHOD:PUBLISH
X-WR-CALNAME:Degerfors vs Halmstad
X-WR-TIMEZONE:America/New_York
BEGIN:VEVENT
UID:match-5505841@streamradar.soccer
SUMMARY:Degerfors vs Halmstad
DTSTAMP:20260421T095637Z
DTSTART;TZID=America/New_York:20260906T090000
DTEND;TZID=America/New_York:20260906T110000
LOCATION:Stora Valla
DESCRIPTION:Kde sledovat Degerfors vs Halmstad v Å vÃ©dsko - Allsvenskan. Å
 ½ivÃ½ pÅ™enos a TV program.\nhttps://streamradar.soccer/cs/match/5505841/de
 gerfors-vs-halmstad/
URL;VALUE=URI:https://streamradar.soccer/cs/match/5505841/degerfors-vs-halm
 stad/
STATUS:CONFIRMED
END:VEVENT
END:VCALENDAR
