BEGIN:VCALENDAR
VERSION:2.0
PRODID:-//StreamRadar//Match Calendar//EN
CALSCALE:GREGORIAN
METHOD:PUBLISH
X-WR-CALNAME:São Paulo vs Internacional
X-WR-TIMEZONE:America/New_York
BEGIN:VEVENT
UID:match-5504568@streamradar.soccer
SUMMARY:São Paulo vs Internacional
DTSTAMP:20260425T174347Z
DTSTART;TZID=America/New_York:20260920T160000
DTEND;TZID=America/New_York:20260920T180000
LOCATION:Estadio Do MorumBIS
DESCRIPTION:Kde sledovat São Paulo vs Internacional v Brazílie - Brasilei
 ro Série A. Živý přenos a TV program.\nhttps://streamradar.soccer/cs/ma
 tch/5504568/sao-paulo-vs-internacional/
URL;VALUE=URI:https://streamradar.soccer/cs/match/5504568/sao-paulo-vs-inte
 rnacional/
STATUS:CONFIRMED
END:VEVENT
END:VCALENDAR
