BEGIN:VCALENDAR
VERSION:2.0
PRODID:-//StreamRadar//Match Calendar//EN
CALSCALE:GREGORIAN
METHOD:PUBLISH
X-WR-CALNAME:Unión Santa Fe vs Independiente
X-WR-TIMEZONE:America/New_York
BEGIN:VEVENT
UID:match-5504199@streamradar.soccer
SUMMARY:Unión Santa Fe vs Independiente
DTSTAMP:20260423T095628Z
DTSTART;TZID=America/New_York:20260920T160000
DTEND;TZID=America/New_York:20260920T180000
LOCATION:Estadio 15 de Abril
DESCRIPTION:Kde sledovat Unión Santa Fe vs Independiente v Argentina - Pri
 mera División. Živý přenos a TV program.\nhttps://streamradar.soccer/cs
 /match/5504199/union-santa-fe-vs-independiente/
URL;VALUE=URI:https://streamradar.soccer/cs/match/5504199/union-santa-fe-vs
 -independiente/
STATUS:CONFIRMED
END:VEVENT
END:VCALENDAR
