BEGIN:VCALENDAR
VERSION:2.0
PRODID:-//StreamRadar//Match Calendar//EN
CALSCALE:GREGORIAN
METHOD:PUBLISH
X-WR-CALNAME:Artis vs České Budějovice
X-WR-TIMEZONE:America/New_York
BEGIN:VEVENT
UID:match-5332327@streamradar.soccer
SUMMARY:Artis vs České Budějovice
DTSTAMP:20260424T124235Z
DTSTART;TZID=America/New_York:20260425T120000
DTEND;TZID=America/New_York:20260425T140000
LOCATION:Městský fotbalový stadion Srbská (Brno)
DESCRIPTION:Kde sledovat Artis vs České Budějovice v Česká Republika -
  Fortuna národní liga. Živý přenos a TV program.\nhttps://streamradar.
 soccer/cs/match/5332327/artis-vs-ceske-budejovice/
URL;VALUE=URI:https://streamradar.soccer/cs/match/5332327/artis-vs-ceske-bu
 dejovice/
STATUS:CONFIRMED
END:VEVENT
END:VCALENDAR
